BEGIN:VCALENDAR
VERSION:2.0
PRODID:-//VUJ - ECPv6.2.2//NONSGML v1.0//EN
CALSCALE:GREGORIAN
METHOD:PUBLISH
X-WR-CALNAME:VUJ
X-ORIGINAL-URL:https://vuj.at
X-WR-CALDESC:Veranstaltungen für VUJ
REFRESH-INTERVAL;VALUE=DURATION:PT1H
X-Robots-Tag:noindex
X-PUBLISHED-TTL:PT1H
BEGIN:VTIMEZONE
TZID:Europe/Vienna
BEGIN:DAYLIGHT
TZOFFSETFROM:+0100
TZOFFSETTO:+0200
TZNAME:CEST
DTSTART:20240331T010000
END:DAYLIGHT
BEGIN:STANDARD
TZOFFSETFROM:+0200
TZOFFSETTO:+0100
TZNAME:CET
DTSTART:20241027T010000
END:STANDARD
END:VTIMEZONE
BEGIN:VEVENT
DTSTART;TZID=Europe/Vienna:20240920T083000
DTEND;TZID=Europe/Vienna:20240920T100000
DTSTAMP:20260420T021229
CREATED:20240722T182141Z
LAST-MODIFIED:20240722T182213Z
UID:3515-1726821000-1726826400@vuj.at
SUMMARY:Die VUJ zu Besuch in der Bundeswettbewerbsbehörde
DESCRIPTION:  \n  \nSehr geehrte Unternehmensjurist:innen\, \nwir freuen uns sehr\, dass der VUJ-Fachkreis Kartellrecht unter der Leitung von Frau Dr. Erika Stark-Rittenauer exklusiv am Freitag\, 20. September 2024 in die Bundeswettbewerbsbehörde eingeladen wurde. \nDie Leitungen der neu geschaffenen Fallabteilungen A und B\, Frau  Dr. Teresa Eckhard\, LL.M. und Herr Mag. (FH) Mag. Stefan Ruech stellen sich vor und informieren Sie über die aktuellen Schwerpunkte! \n  \nThema: Aktuelle Entwicklungen und Insights: Daten\, Fakten und Neuerungen der Bundeswettbewerbsbehörde \nWann? Freitag\, 20. September 2024 | 08:30 – 10:00 Uhr Vortrag mit anschließendem Get-together\nWo? Bundeswettbewerbsbehörde\, Radetzkystraße 2\, 1030 Wien \nAnmeldung: bitte schreiben Sie uns unter office@vuj.at (bitte mit Angabe Ihres aktuellen Arbeitgebers). \nLimitierte Plätze! \n\nLink
URL:https://vuj.at/event/die-vuj-zu-besuch-in-der-bundeswettbewerbsbehoerde/
END:VEVENT
END:VCALENDAR