BEGIN:VCALENDAR
VERSION:2.0
PRODID:-//VUJ - ECPv6.2.2//NONSGML v1.0//EN
CALSCALE:GREGORIAN
METHOD:PUBLISH
X-ORIGINAL-URL:https://vuj.at
X-WR-CALDESC:Veranstaltungen für VUJ
REFRESH-INTERVAL;VALUE=DURATION:PT1H
X-Robots-Tag:noindex
X-PUBLISHED-TTL:PT1H
BEGIN:VTIMEZONE
TZID:Europe/Vienna
BEGIN:DAYLIGHT
TZOFFSETFROM:+0100
TZOFFSETTO:+0200
TZNAME:CEST
DTSTART:20250330T010000
END:DAYLIGHT
BEGIN:STANDARD
TZOFFSETFROM:+0200
TZOFFSETTO:+0100
TZNAME:CET
DTSTART:20251026T010000
END:STANDARD
END:VTIMEZONE
BEGIN:VEVENT
DTSTART;TZID=Europe/Vienna:20250526T180000
DTEND;TZID=Europe/Vienna:20250526T190000
DTSTAMP:20260423T230654
CREATED:20250316T181124Z
LAST-MODIFIED:20250316T181124Z
UID:3808-1748282400-1748286000@vuj.at
SUMMARY:Veranstaltung zu DPAs und verfahrensbeendenden Absprachen
DESCRIPTION:Details folgen.
URL:https://vuj.at/event/veranstaltung-zu-dpas-und-verfahrensbeendenden-absprachen/
END:VEVENT
END:VCALENDAR