BEGIN:VCALENDAR
VERSION:2.0
PRODID:-//VUJ - ECPv6.2.2//NONSGML v1.0//EN
CALSCALE:GREGORIAN
METHOD:PUBLISH
X-ORIGINAL-URL:https://vuj.at
X-WR-CALDESC:Veranstaltungen für VUJ
REFRESH-INTERVAL;VALUE=DURATION:PT1H
X-Robots-Tag:noindex
X-PUBLISHED-TTL:PT1H
BEGIN:VTIMEZONE
TZID:Europe/Vienna
BEGIN:DAYLIGHT
TZOFFSETFROM:+0100
TZOFFSETTO:+0200
TZNAME:CEST
DTSTART:20250330T010000
END:DAYLIGHT
BEGIN:STANDARD
TZOFFSETFROM:+0200
TZOFFSETTO:+0100
TZNAME:CET
DTSTART:20251026T010000
END:STANDARD
END:VTIMEZONE
BEGIN:VEVENT
DTSTART;TZID=Europe/Vienna:20250605T173000
DTEND;TZID=Europe/Vienna:20250605T193000
DTSTAMP:20260423T230526
CREATED:20250506T200227Z
LAST-MODIFIED:20250506T200227Z
UID:3876-1749144600-1749151800@vuj.at
SUMMARY:Wenn Krisen ansteckend sind\, Follow up Event in Wien
DESCRIPTION:Wenn Geschäftspartner in wirtschaftliche Turbulenzen geraten\, zählt jede Minute – und die Rechtsabteilung rückt in den Mittelpunkt. Wie können sich Unternehmensjurist:innen geziehlt auf solche Krisensituationen vorbereiten? \nAntworten liefert das Follow up-Event von LeitnerLaw Rechtsanwälte und LeitnerLeitner Austria – diesmal in Wien: \n– Absicherung vor Zahlungsausfällen\n– Vorausschauende Vertragsgestaltung\n– Früherkennung von Kundenkrisen anhand von Finanzinformationen\n– Finanzplanung zur Risikominimierung\n– Personelle Strategien und Maßnahmen im eigenen Unternehmen \nWann? Donnerstag\, 05. Juni 2025 | 17:30 – 19:30 Uhr \nWo? LeitnerLaw\, Schwarzenbergplatz 14\, 1040 Wien \nGleich anmelden: https://www.leitnerlaw.eu/news/wenn-krisen-ansteckend-sind-wien/
URL:https://vuj.at/event/wenn-krisen-ansteckend-sind-follow-up-event-in-wien/
END:VEVENT
END:VCALENDAR