BEGIN:VCALENDAR
VERSION:2.0
PRODID:-//VUJ - ECPv6.2.2//NONSGML v1.0//EN
CALSCALE:GREGORIAN
METHOD:PUBLISH
X-WR-CALNAME:VUJ
X-ORIGINAL-URL:https://vuj.at
X-WR-CALDESC:Veranstaltungen für VUJ
REFRESH-INTERVAL;VALUE=DURATION:PT1H
X-Robots-Tag:noindex
X-PUBLISHED-TTL:PT1H
BEGIN:VTIMEZONE
TZID:Europe/Vienna
BEGIN:DAYLIGHT
TZOFFSETFROM:+0100
TZOFFSETTO:+0200
TZNAME:CEST
DTSTART:20250330T010000
END:DAYLIGHT
BEGIN:STANDARD
TZOFFSETFROM:+0200
TZOFFSETTO:+0100
TZNAME:CET
DTSTART:20251026T010000
END:STANDARD
END:VTIMEZONE
BEGIN:VEVENT
DTSTART;VALUE=DATE:20250611
DTEND;VALUE=DATE:20250612
DTSTAMP:20260423T230415
CREATED:20250316T183749Z
LAST-MODIFIED:20250316T183749Z
UID:3816-1749600000-1749686399@vuj.at
SUMMARY:Tax Tech Konferenz 2025
DESCRIPTION:Klicken Sie hier für mehr Infos zur Tax Tech 2025.
URL:https://vuj.at/event/tax-tech-konferenz-2025/
END:VEVENT
BEGIN:VEVENT
DTSTART;TZID=Europe/Vienna:20250611T163000
DTEND;TZID=Europe/Vienna:20250611T190000
DTSTAMP:20260423T230415
CREATED:20250418T100506Z
LAST-MODIFIED:20250418T100506Z
UID:3852-1749659400-1749668400@vuj.at
SUMMARY:Fachkreis Vorarlberg bei der ALPLA Group
DESCRIPTION:Das nächste Treffen des Regionalkreises Vorarlberg findet am Mittwoch\, den 11. Juni 2025 statt! \nDieses Mal dürfen wir zu Gast bei der ALPLA Group sein – ein herzliches Dankeschön geht bereits jetzt an Christian Sparl und sein Team für die Einladung und die Organisation vor Ort! \nDie Veranstaltung widmet sich topaktuellen Themen rund um Contract Management\, Künstliche Intelligenz und Legal Tech. \nNeben spannenden inhaltlichen Impulsen steht wie immer auch der persönliche Austausch im Fokus — wir laden daher alle Teilnehmer herzlich ein\, einen kurzen Beitrag aus der eigenen Praxis zum Umgang mit Vertragsmanagement & KI beizusteuern! \n📅 Datum: Mittwoch\, 11. Juni 2025 ab 16:30 Uhr\n📍 Ort: ALPLA – Werksführung in Fußach\, anschließend Programm im HQ in Hard \n✉️ Anmeldung bitte bis spätestens 02. Juni 2025 direkt an Dominik Schelling: Dominik.Schelling@hirschmann-automotive.com
URL:https://vuj.at/event/fachkreis-vorarlberg-bei-der-alpla-group/
END:VEVENT
END:VCALENDAR