BEGIN:VCALENDAR
VERSION:2.0
PRODID:-//VUJ - ECPv6.2.2//NONSGML v1.0//EN
CALSCALE:GREGORIAN
METHOD:PUBLISH
X-WR-CALNAME:VUJ
X-ORIGINAL-URL:https://vuj.at
X-WR-CALDESC:Veranstaltungen für VUJ
REFRESH-INTERVAL;VALUE=DURATION:PT1H
X-Robots-Tag:noindex
X-PUBLISHED-TTL:PT1H
BEGIN:VTIMEZONE
TZID:Europe/Vienna
BEGIN:DAYLIGHT
TZOFFSETFROM:+0100
TZOFFSETTO:+0200
TZNAME:CEST
DTSTART:20250330T010000
END:DAYLIGHT
BEGIN:STANDARD
TZOFFSETFROM:+0200
TZOFFSETTO:+0100
TZNAME:CET
DTSTART:20251026T010000
END:STANDARD
END:VTIMEZONE
BEGIN:VEVENT
DTSTART;VALUE=DATE:20250915
DTEND;VALUE=DATE:20250917
DTSTAMP:20260423T183358
CREATED:20250825T100232Z
LAST-MODIFIED:20250825T100232Z
UID:4034-1757894400-1758067199@vuj.at
SUMMARY:General Counsel Forum Europe (in Madrid)
DESCRIPTION:The General Counsel Forum Europe in Madrid (15-16 September)\, celebrating ECLA’s 42nd Anniversary\, brings together senior in-house leaders to tackle the legal\, strategic and regulatory challenges shaping European business. Over 1.5 days\, you will exchange ideas with peers\, gain insight from some of Europe’s most influential voices\, and build relationships that extend far beyond the room. \n  \nConfirmed speakers and topics now include: \n  \n\nTimo Spitzer (Banco Santander) – Human Leadership in Tech-Centric Corporate Structures\nChristina Boerner (Leonteq) & Ivo Hoppler (University of Zurich & Federal Institute of Technology ETH) – ESG Underwriting: How Legal Shapes the Boundaries of Risk and Responsibility\nMarie-Anne Frison-Roche (Institut d’Etudes Politiques de Paris) – Compliance Law and Systematic Litigation\nRuud van Herpen (Xebia Group) & Sebastian Chames (Paramount) – Borderless Legal Architecture – Leading and Aligning Global Legal Functions\nKostas Argyropoulos (Space Hellas) & Anastasia Petsinari (Optima Bank) – Seconds to Decide: Cyber Crisis Simulation for Legal Departments\nand many more\n\n  \n\nDate & Venue: 15–16 September 2025 | NH Collection Madrid Eurobuilding\nhttps://gcfe.eu/
URL:https://vuj.at/event/general-counsel-forum-europe-in-madrid/
END:VEVENT
END:VCALENDAR