BEGIN:VCALENDAR
VERSION:2.0
PRODID:-//VUJ - ECPv6.2.2//NONSGML v1.0//EN
CALSCALE:GREGORIAN
METHOD:PUBLISH
X-WR-CALNAME:VUJ
X-ORIGINAL-URL:https://vuj.at
X-WR-CALDESC:Veranstaltungen für VUJ
REFRESH-INTERVAL;VALUE=DURATION:PT1H
X-Robots-Tag:noindex
X-PUBLISHED-TTL:PT1H
BEGIN:VTIMEZONE
TZID:Europe/Vienna
BEGIN:DAYLIGHT
TZOFFSETFROM:+0100
TZOFFSETTO:+0200
TZNAME:CEST
DTSTART:20250330T010000
END:DAYLIGHT
BEGIN:STANDARD
TZOFFSETFROM:+0200
TZOFFSETTO:+0100
TZNAME:CET
DTSTART:20251026T010000
END:STANDARD
END:VTIMEZONE
BEGIN:VEVENT
DTSTART;TZID=Europe/Vienna:20251006T083000
DTEND;TZID=Europe/Vienna:20251006T170000
DTSTAMP:20260423T165546
CREATED:20250616T071939Z
LAST-MODIFIED:20250616T071939Z
UID:3901-1759739400-1759770000@vuj.at
SUMMARY:7. Unternehmensjurist:innenkongress im Parkhotel Schönbrunn
DESCRIPTION:Zum Sonderpreis für VUJ-Mitglieder: \nhttps://shop.manz.at/shop/events/630884
URL:https://vuj.at/event/7-unternehmensjuristinnenkongress-im-parkhotel-schoenbrunn/
END:VEVENT
BEGIN:VEVENT
DTSTART;TZID=Europe/Vienna:20251006T110000
DTEND;TZID=Europe/Vienna:20251006T113000
DTSTAMP:20260423T165546
CREATED:20250825T090855Z
LAST-MODIFIED:20250825T090855Z
UID:4029-1759748400-1759750200@vuj.at
SUMMARY:VUJ-Generalversammlung
DESCRIPTION:Unsere diesjährige ordentliche Mitgliederversammlung findet am 06. Oktober 2025 um 11.00 Uhr im Austria Trend Parkhotel Schönbrunn\, Hietzinger Hauptstraße 10-14\, 1130 Wien statt. Eine Einladung erhalten Sie dazu separat.
URL:https://vuj.at/event/vuj-generalversammlung/
END:VEVENT
BEGIN:VEVENT
DTSTART;TZID=Europe/Vienna:20251006T170000
DTEND;TZID=Europe/Vienna:20251006T223000
DTSTAMP:20260423T165546
CREATED:20250616T072059Z
LAST-MODIFIED:20250616T072059Z
UID:3903-1759770000-1759789800@vuj.at
SUMMARY:Mitglieder Get-together in der Waldemar Tagesbar
DESCRIPTION:„Durchs Reden kommen die Leut’ z’amm“ – ganz in diesem Sinne laden wir Sie herzlich zum Mitglieder Get-together im Anschluss an den Kongress ein: \nWaldemar Tagesbar\, Altgasse 6\, 1130 Wien\nMontag\, 6. Oktober 2025 | 17:00 – 22:30 Uhr\nAnmeldung bitte an: office@vuj.at
URL:https://vuj.at/event/mitglieder-get-together-in-der-waldemar-tagesbar/
END:VEVENT
END:VCALENDAR