BEGIN:VCALENDAR
VERSION:2.0
PRODID:-//VUJ - ECPv6.2.2//NONSGML v1.0//EN
CALSCALE:GREGORIAN
METHOD:PUBLISH
X-ORIGINAL-URL:https://vuj.at
X-WR-CALDESC:Veranstaltungen für VUJ
REFRESH-INTERVAL;VALUE=DURATION:PT1H
X-Robots-Tag:noindex
X-PUBLISHED-TTL:PT1H
BEGIN:VTIMEZONE
TZID:Europe/Vienna
BEGIN:DAYLIGHT
TZOFFSETFROM:+0100
TZOFFSETTO:+0200
TZNAME:CEST
DTSTART:20250330T010000
END:DAYLIGHT
BEGIN:STANDARD
TZOFFSETFROM:+0200
TZOFFSETTO:+0100
TZNAME:CET
DTSTART:20251026T010000
END:STANDARD
END:VTIMEZONE
BEGIN:VEVENT
DTSTART;VALUE=DATE:20251007
DTEND;VALUE=DATE:20251008
DTSTAMP:20260423T170315
CREATED:20250616T104612Z
LAST-MODIFIED:20250616T104612Z
UID:3922-1759795200-1759881599@vuj.at
SUMMARY:Jahrestagung Nachhaltigkeitsberichterstattung 2025
DESCRIPTION:https://shop.manz.at/shop/events/631171 \nErmäßigung für VUJ-Mitglieder!
URL:https://vuj.at/event/jahrestagung-nachhaltigkeitsberichterstattung-2025/
END:VEVENT
END:VCALENDAR