BEGIN:VCALENDAR
VERSION:2.0
PRODID:-//VUJ - ECPv6.2.2//NONSGML v1.0//EN
CALSCALE:GREGORIAN
METHOD:PUBLISH
X-ORIGINAL-URL:https://vuj.at
X-WR-CALDESC:Veranstaltungen für VUJ
REFRESH-INTERVAL;VALUE=DURATION:PT1H
X-Robots-Tag:noindex
X-PUBLISHED-TTL:PT1H
BEGIN:VTIMEZONE
TZID:Europe/Vienna
BEGIN:DAYLIGHT
TZOFFSETFROM:+0100
TZOFFSETTO:+0200
TZNAME:CEST
DTSTART:20250330T010000
END:DAYLIGHT
BEGIN:STANDARD
TZOFFSETFROM:+0200
TZOFFSETTO:+0100
TZNAME:CET
DTSTART:20251026T010000
END:STANDARD
END:VTIMEZONE
BEGIN:VEVENT
DTSTART;VALUE=DATE:20251111
DTEND;VALUE=DATE:20251113
DTSTAMP:20260423T153335
CREATED:20250616T104954Z
LAST-MODIFIED:20250616T104954Z
UID:3926-1762819200-1762991999@vuj.at
SUMMARY:Lehrgang Certified Digital Legal Expert
DESCRIPTION:https://shop.manz.at/shop/events/627675 \nZum Sonderpreis für VUJ-Mitglieder!
URL:https://vuj.at/event/lehrgang-certified-digital-legal-expert-6/
END:VEVENT
END:VCALENDAR