BEGIN:VCALENDAR
VERSION:2.0
PRODID:-//VUJ - ECPv6.2.2//NONSGML v1.0//EN
CALSCALE:GREGORIAN
METHOD:PUBLISH
X-ORIGINAL-URL:https://vuj.at
X-WR-CALDESC:Veranstaltungen für VUJ
REFRESH-INTERVAL;VALUE=DURATION:PT1H
X-Robots-Tag:noindex
X-PUBLISHED-TTL:PT1H
BEGIN:VTIMEZONE
TZID:Europe/Vienna
BEGIN:DAYLIGHT
TZOFFSETFROM:+0100
TZOFFSETTO:+0200
TZNAME:CEST
DTSTART:20250330T010000
END:DAYLIGHT
BEGIN:STANDARD
TZOFFSETFROM:+0200
TZOFFSETTO:+0100
TZNAME:CET
DTSTART:20251026T010000
END:STANDARD
END:VTIMEZONE
BEGIN:VEVENT
DTSTART;TZID=Europe/Vienna:20251119T090000
DTEND;TZID=Europe/Vienna:20251119T100000
DTSTAMP:20260423T105840
CREATED:20250125T180857Z
LAST-MODIFIED:20250125T180857Z
UID:3752-1763542800-1763546400@vuj.at
SUMMARY:Legal Tech Frühstück
DESCRIPTION:Klicken Sie hier: https://future-law.eu/events/
URL:https://vuj.at/event/legal-tech-fruehstueck-10/
END:VEVENT
END:VCALENDAR