BEGIN:VCALENDAR
VERSION:2.0
PRODID:-//VUJ - ECPv6.2.2//NONSGML v1.0//EN
CALSCALE:GREGORIAN
METHOD:PUBLISH
X-WR-CALNAME:VUJ
X-ORIGINAL-URL:https://vuj.at
X-WR-CALDESC:Veranstaltungen für VUJ
REFRESH-INTERVAL;VALUE=DURATION:PT1H
X-Robots-Tag:noindex
X-PUBLISHED-TTL:PT1H
BEGIN:VTIMEZONE
TZID:Europe/Vienna
BEGIN:DAYLIGHT
TZOFFSETFROM:+0100
TZOFFSETTO:+0200
TZNAME:CEST
DTSTART:20260329T010000
END:DAYLIGHT
BEGIN:STANDARD
TZOFFSETFROM:+0200
TZOFFSETTO:+0100
TZNAME:CET
DTSTART:20261025T010000
END:STANDARD
END:VTIMEZONE
BEGIN:VEVENT
DTSTART;TZID=Europe/Vienna:20260424T083000
DTEND;TZID=Europe/Vienna:20260424T103000
DTSTAMP:20260424T020331
CREATED:20260325T114705Z
LAST-MODIFIED:20260325T125723Z
UID:4349-1777019400-1777026600@vuj.at
SUMMARY:DealDeepDive Breakfast/The Inhouse M&A Series
DESCRIPTION:Einladung – #DealDeepDive Breakfast_24.04.2026 \nErfolgreiche Deals erfordern – insbesondere für Unternehmensjurist:innen – nicht nur rechtliches Know-how\, sondern ein tiefes Verständnis für vielfältige fachspezifische Schnittstellen. Um diese Tiefe gemeinsam mit Ihnen strukturiert zu durchleuchten\, starten wir gemeinsam mit Saxinger eine neue Veranstaltungsreihe: \n#DealDeepDive Breakfast\nThe InHouse M&A Series \nIn regelmäßigen Sessions widmen wir uns unterschiedlichen Bereichen des M&A Prozesses. Um die Themen ganzheitlich beleuchten zu können\, begrüßen\nwir für jede Session spezialisierte Vortragende\, die ihr Expertenwissen zu Themen wie zB Immobilienrecht\, Arbeitsrecht oder Verhandlungstaktik praxisnah mit uns teilen. Die Sessions finden grundsätzlich einmal pro Kalenderquartal statt. Nachstehend stellen wir Ihnen die ersten drei Sessions vor\, weitere folgen. \nWir laden Sie herzlich ein\, beim ersten Termin gemeinsam mit uns ins Thema „einzutauchen“ – wahlweise vor Ort in Linz bei einem Networking-Frühstück oder flexibel via Online- Livestream. \nInHouse-Rolle: Wie positioniert man sich als InHouse-Jurist:in effektiv als zentrale Schnittstelle der Transaktion?\nStrukturierung des Projekts und effiziente Steuerung der unterschiedlichen Workstreams \n– Interdisziplinäre Koordination: Wie lassen sich die Workstreams Legal\, Tax und Financial effizient bündeln\, um Redundanzen zu vermeiden?\n– Schnittstellen-Management: Wie steuert man das Zusammenspiel zwischen internen Fachabteilungen und externen Beratern unter hohem Zeitdruck?\n– Meilensteine & Controlling: Welche Best Practices helfen dabei\, den Überblick über den Zeitplan und die kritischen Deal-Punkte zu behalten?\n– Risikomanagement\, Dokumentation und Governance \n  \nDatum: Freitag\, 24. April 2026 | Uhrzeit: 08:30 Uhr bis ca. 10:30 Uhr\nFormat: Hybrid (Präsenz / Online)\nOrt: Saxinger Rechtsanwalts GmbH\, Böhmerwaldstraße 14\, 4020 Linz \n  \nZur Anmeldung: https://mailworx.marketingsuite.info/Form?frm=7f4188d5-0f04-48e5-a4c1-ceec991569a1
URL:https://vuj.at/event/dealdeepdive-breakfast-the-inhouse-ma-series/
END:VEVENT
END:VCALENDAR