BEGIN:VCALENDAR
VERSION:2.0
PRODID:-//VUJ - ECPv6.2.2//NONSGML v1.0//EN
CALSCALE:GREGORIAN
METHOD:PUBLISH
X-WR-CALNAME:VUJ
X-ORIGINAL-URL:https://vuj.at
X-WR-CALDESC:Veranstaltungen für VUJ
REFRESH-INTERVAL;VALUE=DURATION:PT1H
X-Robots-Tag:noindex
X-PUBLISHED-TTL:PT1H
BEGIN:VTIMEZONE
TZID:Europe/Vienna
BEGIN:DAYLIGHT
TZOFFSETFROM:+0100
TZOFFSETTO:+0200
TZNAME:CEST
DTSTART:20260329T010000
END:DAYLIGHT
BEGIN:STANDARD
TZOFFSETFROM:+0200
TZOFFSETTO:+0100
TZNAME:CET
DTSTART:20261025T010000
END:STANDARD
END:VTIMEZONE
BEGIN:VEVENT
DTSTART;TZID=Europe/Vienna:20260527T090000
DTEND;TZID=Europe/Vienna:20260527T103000
DTSTAMP:20260424T082754
CREATED:20260417T091146Z
LAST-MODIFIED:20260417T091146Z
UID:4397-1779872400-1779877800@vuj.at
SUMMARY:Legal Tech Frühstück für Rechtsabteilungen
DESCRIPTION:  \nThema: „Automatisierung mit KI – was geht schon\, was (noch) nicht?” \n\nWann? Mittwoch\, 27.05.2026\, 09:00-10:30 Uhr\nWo? OMV\, Trabrennstraße 6-8\, 1020 Wien \nZur Anmeldung: https://future-law.eu/event/legal-tech-fruehstueck-fuer-rechtsabteilungen-17/?mc_cid=c8675f06ca&mc_eid=72370b0e00 \n  \n 
URL:https://vuj.at/event/legal-tech-fruehstueck-fuer-rechtsabteilungen-14/
END:VEVENT
END:VCALENDAR