BEGIN:VCALENDAR
VERSION:2.0
PRODID:-//VUJ - ECPv6.2.2//NONSGML v1.0//EN
CALSCALE:GREGORIAN
METHOD:PUBLISH
X-WR-CALNAME:VUJ
X-ORIGINAL-URL:https://vuj.at
X-WR-CALDESC:Veranstaltungen für VUJ
REFRESH-INTERVAL;VALUE=DURATION:PT1H
X-Robots-Tag:noindex
X-PUBLISHED-TTL:PT1H
BEGIN:VTIMEZONE
TZID:Europe/Vienna
BEGIN:DAYLIGHT
TZOFFSETFROM:+0100
TZOFFSETTO:+0200
TZNAME:CEST
DTSTART:20260329T010000
END:DAYLIGHT
BEGIN:STANDARD
TZOFFSETFROM:+0200
TZOFFSETTO:+0100
TZNAME:CET
DTSTART:20261025T010000
END:STANDARD
END:VTIMEZONE
BEGIN:VEVENT
DTSTART;TZID=Europe/Vienna:20260610T150000
DTEND;TZID=Europe/Vienna:20260610T210000
DTSTAMP:20260421T133748
CREATED:20260417T084439Z
LAST-MODIFIED:20260417T084439Z
UID:4389-1781103600-1781125200@vuj.at
SUMMARY:Legal Day Styria
DESCRIPTION:Details zum Programm und Anmeldung: Legal Day in Styria Einladung 0626 \nEversheds Sutherland lädt ein zum Legal Day Styria. \nWann: 10. Juni 2026 von 15.00 bis 21.00 Uhr\nOrt:  Needle\, Kunsthaus Graz\, Lendkai 1\, 8020 Graz \nDie Herausforderungen für Unternehmensjurist:innen werden immer vielfältiger: Neue Technologien\, komplexe rechtliche Vorgaben und wachsende regulatorische Hürden stellen Unternehmen täglich auf die Probe. Freuen Sie sich auf fundierten fachlichen Input zu aktuellen Rechtsthemen und nutzen Sie die Gelegenheit zum Austausch in besonderer Atmosphäre mit Blick über Graz. \nBitte um Anmeldung bis spätestens 03.06.2026 per E-Mail bei legalday@eversheds-sutherland.at oder telefonisch unter + 43 1 51620 an.\nhttps://www.eversheds-sutherland.com/de/austria/events/legal-day-in-styria-10-06-2026
URL:https://vuj.at/event/legal-day-styria/
END:VEVENT
END:VCALENDAR