BEGIN:VCALENDAR
VERSION:2.0
PRODID:-//VUJ - ECPv6.2.2//NONSGML v1.0//EN
CALSCALE:GREGORIAN
METHOD:PUBLISH
X-ORIGINAL-URL:https://vuj.at
X-WR-CALDESC:Veranstaltungen für VUJ
REFRESH-INTERVAL;VALUE=DURATION:PT1H
X-Robots-Tag:noindex
X-PUBLISHED-TTL:PT1H
BEGIN:VTIMEZONE
TZID:Europe/Vienna
BEGIN:DAYLIGHT
TZOFFSETFROM:+0100
TZOFFSETTO:+0200
TZNAME:CEST
DTSTART:20260329T010000
END:DAYLIGHT
BEGIN:STANDARD
TZOFFSETFROM:+0200
TZOFFSETTO:+0100
TZNAME:CET
DTSTART:20261025T010000
END:STANDARD
END:VTIMEZONE
BEGIN:VEVENT
DTSTART;TZID=Europe/Vienna:20260422T133000
DTEND;TZID=Europe/Vienna:20260422T160000
DTSTAMP:20260420T061434
CREATED:20260218T100254Z
LAST-MODIFIED:20260218T100254Z
UID:4234-1776864600-1776873600@vuj.at
SUMMARY:NIS2 Management-Schulung
DESCRIPTION:NIS2 Management-Schulung \nSeit 17. Oktober 2024 gilt die neue NIS2-Richtlinie\, die bestimmten Unternehmen strengere Cybersecurity-Pflichten auferlegt. Damit Sie optimal auf NIS2 vorbereitet sind\, bieten wir NIS2 Management-Schulungen für Ihre Cybersicherheit an. \n  \n22.04.2026 von 13.30–16.00 Uhr \n490 € (exkl. USt) \n10% Rabatt für VUJ-Mitglieder \nhttps://www.eversheds-sutherland.com/de/austria/events/nis-2-schulung-240226
URL:https://vuj.at/event/nis2-management-schulung-2/
END:VEVENT
BEGIN:VEVENT
DTSTART;TZID=Europe/Vienna:20260423T100000
DTEND;TZID=Europe/Vienna:20260423T120000
DTSTAMP:20260420T061434
CREATED:20260228T150007Z
LAST-MODIFIED:20260228T150007Z
UID:4260-1776938400-1776945600@vuj.at
SUMMARY:General Counsel Roundtabel zu Joint Ventures (Online)
DESCRIPTION:General Counsel Roundtable Online: Joint Ventures With Foreign Partners – Dos And Don’ts \nIm Fokus stehen Governance-Strukturen\, IP- und Datenschutz\, Compliance über mehrere Jurisdiktionen sowie die Vermeidung von Deadlocks und Fehlanreizen. Zur Anmeldung: https://ecla.online/events/ \n  \nhttps://ecla.online/events/
URL:https://vuj.at/event/general-counsel-roundtabel-zu-joint-ventures-online/
END:VEVENT
BEGIN:VEVENT
DTSTART;TZID=Europe/Vienna:20260424T083000
DTEND;TZID=Europe/Vienna:20260424T103000
DTSTAMP:20260420T061434
CREATED:20260325T114705Z
LAST-MODIFIED:20260325T125723Z
UID:4349-1777019400-1777026600@vuj.at
SUMMARY:DealDeepDive Breakfast/The Inhouse M&A Series
DESCRIPTION:Einladung – #DealDeepDive Breakfast_24.04.2026 \nErfolgreiche Deals erfordern – insbesondere für Unternehmensjurist:innen – nicht nur rechtliches Know-how\, sondern ein tiefes Verständnis für vielfältige fachspezifische Schnittstellen. Um diese Tiefe gemeinsam mit Ihnen strukturiert zu durchleuchten\, starten wir gemeinsam mit Saxinger eine neue Veranstaltungsreihe: \n#DealDeepDive Breakfast\nThe InHouse M&A Series \nIn regelmäßigen Sessions widmen wir uns unterschiedlichen Bereichen des M&A Prozesses. Um die Themen ganzheitlich beleuchten zu können\, begrüßen\nwir für jede Session spezialisierte Vortragende\, die ihr Expertenwissen zu Themen wie zB Immobilienrecht\, Arbeitsrecht oder Verhandlungstaktik praxisnah mit uns teilen. Die Sessions finden grundsätzlich einmal pro Kalenderquartal statt. Nachstehend stellen wir Ihnen die ersten drei Sessions vor\, weitere folgen. \nWir laden Sie herzlich ein\, beim ersten Termin gemeinsam mit uns ins Thema „einzutauchen“ – wahlweise vor Ort in Linz bei einem Networking-Frühstück oder flexibel via Online- Livestream. \nInHouse-Rolle: Wie positioniert man sich als InHouse-Jurist:in effektiv als zentrale Schnittstelle der Transaktion?\nStrukturierung des Projekts und effiziente Steuerung der unterschiedlichen Workstreams \n– Interdisziplinäre Koordination: Wie lassen sich die Workstreams Legal\, Tax und Financial effizient bündeln\, um Redundanzen zu vermeiden?\n– Schnittstellen-Management: Wie steuert man das Zusammenspiel zwischen internen Fachabteilungen und externen Beratern unter hohem Zeitdruck?\n– Meilensteine & Controlling: Welche Best Practices helfen dabei\, den Überblick über den Zeitplan und die kritischen Deal-Punkte zu behalten?\n– Risikomanagement\, Dokumentation und Governance \n  \nDatum: Freitag\, 24. April 2026 | Uhrzeit: 08:30 Uhr bis ca. 10:30 Uhr\nFormat: Hybrid (Präsenz / Online)\nOrt: Saxinger Rechtsanwalts GmbH\, Böhmerwaldstraße 14\, 4020 Linz \n  \nZur Anmeldung: https://mailworx.marketingsuite.info/Form?frm=7f4188d5-0f04-48e5-a4c1-ceec991569a1
URL:https://vuj.at/event/dealdeepdive-breakfast-the-inhouse-ma-series/
END:VEVENT
BEGIN:VEVENT
DTSTART;TZID=Europe/Vienna:20260504T090000
DTEND;TZID=Europe/Vienna:20260504T100000
DTSTAMP:20260420T061434
CREATED:20260417T091012Z
LAST-MODIFIED:20260417T091012Z
UID:4395-1777885200-1777888800@vuj.at
SUMMARY:Legal Tech Barometer - Präsentation
DESCRIPTION:Melden Sie sich hier für die Präsentation des Legal Tech Barometers 2026 an: https://future-law.eu/formulare/praesentation-legal-tech-barometer-2026-warteliste/?mc_cid=c8675f06ca&mc_eid=72370b0e00
URL:https://vuj.at/event/legal-tech-barometer-praesentation/
END:VEVENT
BEGIN:VEVENT
DTSTART;VALUE=DATE:20260505
DTEND;VALUE=DATE:20260506
DTSTAMP:20260420T061434
CREATED:20251118T143859Z
LAST-MODIFIED:20251118T143859Z
UID:4151-1777939200-1778025599@vuj.at
SUMMARY:Lehrgang Corporate Law/M&A 2026
DESCRIPTION:Klicken Sie hier: https://shop.manz.at/shop/events/636108
URL:https://vuj.at/event/lehrgang-corporate-law-ma-2026/
END:VEVENT
BEGIN:VEVENT
DTSTART;VALUE=DATE:20260506
DTEND;VALUE=DATE:20260507
DTSTAMP:20260420T061434
CREATED:20260316T182228Z
LAST-MODIFIED:20260325T080736Z
UID:4315-1778025600-1778111999@vuj.at
SUMMARY:Kick Off Westösterreich im Müllner Bräu\, Salzburg
DESCRIPTION:Ein besonderer Fokus des neu gewählten Bundesvorstandes liegt daran\, den Austausch mit unseren Mitgliedern außerhalb von Wien weiter zu stärken. Daher laden Frau Dr. Pia Ratzinger und Ihre Kollegin\, Mag. Stefanie Thuiner\, zu einem Netzwerktreffen in Salzburg ein.\n\n\n06.05.2026 | ab 17:30 Uhr\nMüllner Bräu\, Lindhofstraße 7\, 5020 Salzburg\n\n\n\n\nGeplant ist ein lockeres Zusammenkommen zum Kennenlernen und Netzwerken. Eine Mitgliedschaft ist dafür nicht erforderlich – teilen Sie diese Einladung also gerne auch mit Kolleg:innen aus Ihren Rechts- oder Compliance-Abteilungen.\n\n\n\n\nAnmeldungen bitte bis 30.04.2026 an office@vuj.at\nWir freuen uns auf Ihr Kommen!\n\n\n\nEinladung Kick-Off Westösterreich
URL:https://vuj.at/event/kick-off-westoesterreich-im-muellner-braeu-salzburg/
END:VEVENT
BEGIN:VEVENT
DTSTART;TZID=Europe/Vienna:20260506T150000
DTEND;TZID=Europe/Vienna:20260506T160000
DTSTAMP:20260420T061434
CREATED:20260414T194403Z
LAST-MODIFIED:20260417T085835Z
UID:4376-1778079600-1778083200@vuj.at
SUMMARY:Fachkreis Datenschutzrecht: Chancen und Risiken der Nutzung von KI im Datenschutz-Compliance-Management
DESCRIPTION:Webinar am 06. Mai 2026 15:00 – 16:00 Uhr mit Dagmara Ehrleitner und Lukas Feiler. \nTitel:Chancen und Risiken der Nutzung von KI im Datenschutz-Compliance-Management \nTechnologien der künstlichen Intelligenz eröffnen vielfältige Möglichkeiten\, Arbeitsabläufe effizienter und strukturierter zu gestalten. In diesem Webinar wird praxisnah vermittelt\, wie KI sinnvoll eingesetzt werden kann\, ohne dabei die Anforderungen des Datenschutzes zu vernachlässigen. Der Fokus liegt auf einem ausgewogenen Ansatz zwischen Innovation und rechtlicher Konformität im Datenschutz-Compliance-Management. \nInhaltliche Schwerpunkte: \n\nBeyond Proof of Concept: Konkrete Einsatzmöglichkeiten von KI im Datenschutz – von der Erstellung von Datenschutzerklärungen über Datenschutz-Folgenabschätzungen (DPIAs) bis hin zur Prüfung von Auftragsverarbeitungsverträgen (DPAs)\nPraxisbeispiele und rechtliche Rahmenbedingungen: Chancen und Grenzen der Automatisierung\, insbesondere bei der Bearbeitung und Beantwortung von Betroffenenanfrage\n\nAnmeldelink folgt.
URL:https://vuj.at/event/fachkreis-datenschutzrecht-chancen-und-risiken-der-nutzung-von-ki-im-datenschutz-compliance-management/
END:VEVENT
BEGIN:VEVENT
DTSTART;TZID=Europe/Vienna:20260508T090000
DTEND;TZID=Europe/Vienna:20260508T103000
DTSTAMP:20260420T061434
CREATED:20260329T153628Z
LAST-MODIFIED:20260329T153628Z
UID:4360-1778230800-1778236200@vuj.at
SUMMARY:General Councel Circle
DESCRIPTION:Auftakt am 08.05.2026 bei Brandl Thalos \nThema: Crisis Management – Wie General Counsel Unternehmen durch Kriesen führen \nImpulsvorträge und Austausch (“Chatham House Rule”) \nWann? Freitag\, 08.05.2026 um 9:00 Uhr \nWo? Brandl Thalos\, Via Plaza\, Rechte Wienzeile 223/14\, 1120 Wien \nBei Interesse melden Sie sich bitte unter office@vuj.at
URL:https://vuj.at/event/general-councel-circle/
END:VEVENT
BEGIN:VEVENT
DTSTART;TZID=Europe/Vienna:20260512T080000
DTEND;TZID=Europe/Vienna:20260512T100000
DTSTAMP:20260420T061434
CREATED:20260317T135430Z
LAST-MODIFIED:20260331T182056Z
UID:4322-1778572800-1778580000@vuj.at
SUMMARY:FK Kartellrecht: Veranstaltung in der Industriellen Vereinigung
DESCRIPTION:2026-05-12_Einladung_VUJ \nBusiness Breakfast des VUJ Fachkreises Kartellrecht zum Thema HAUSDURCHSUCHUNGEN UND IT FORENSICS\nam DIENSTAG\, 12.05.2026 | AB 08:00 UHR\nin der INDUSTRIELLENVEREINIGUNG\, EUROPA SAAL\, HOCHPARTERRE\, SCHWARZENBERGPLATZ 4\, 1031 WIEN \nEs erwarten Sie unter anderem folgende Themen:\nErwartungshaltung der Behörden an die IT\, Sperrung von E-Mail Accounts\, Handysicherstellungen und\nBeschlagnahme von PCs\, Best Practice\, Datensicherungen\, uvm. \nVortragende\nDr. Beatrix Krauskopf\, LL.M.\, Stv. Leiterin der Rechtsabteilung der Bundeswettbewerbsbehörde\nDr. Erika Stark-Rittenauer\, LL.M.\, Partnerin bei E+H Rechtsanwälte\nMag. Marlen Dialer-Grillmayer\, General Counsel bei Henn Group\, Leiterin des Fachkreises Kartellrecht \nAblauf\n08:00 Einlass\n08:30-09:30 Vortrag\nDanach Networking & Frühstück \nWir bitten um Anmeldung unter office@vuj.at bis 30.04.2026. \nDie Veranstaltung steht allen Mitgliedern der VUJ und allen anderen Unternehmensjurist:innen offen. \n 
URL:https://vuj.at/event/fk-kartellrecht-veranstaltung-in-der-industriellen-vereinigung/
END:VEVENT
BEGIN:VEVENT
DTSTART;TZID=Europe/Vienna:20260527T090000
DTEND;TZID=Europe/Vienna:20260527T103000
DTSTAMP:20260420T061434
CREATED:20260417T091146Z
LAST-MODIFIED:20260417T091146Z
UID:4397-1779872400-1779877800@vuj.at
SUMMARY:Legal Tech Frühstück für Rechtsabteilungen
DESCRIPTION:  \nThema: „Automatisierung mit KI – was geht schon\, was (noch) nicht?” \n\nWann? Mittwoch\, 27.05.2026\, 09:00-10:30 Uhr\nWo? OMV\, Trabrennstraße 6-8\, 1020 Wien \nZur Anmeldung: https://future-law.eu/event/legal-tech-fruehstueck-fuer-rechtsabteilungen-17/?mc_cid=c8675f06ca&mc_eid=72370b0e00 \n  \n 
URL:https://vuj.at/event/legal-tech-fruehstueck-fuer-rechtsabteilungen-14/
END:VEVENT
BEGIN:VEVENT
DTSTART;TZID=Europe/Vienna:20260528T180000
DTEND;TZID=Europe/Vienna:20260528T190000
DTSTAMP:20260420T061434
CREATED:20260320T110104Z
LAST-MODIFIED:20260320T110104Z
UID:4333-1779991200-1779994800@vuj.at
SUMMARY:Info-Veranstaltung: Unternehmensjurist_in/Legal Management LL.M. an der Donau Uni Krems
DESCRIPTION:Das Weiterbildungsstudium Unternehmensjurist_in / Legal Management LL.M. ist erfolgreich ins erste Jahr gestartet. Juristisches Fachwissen wird dabei gezielt mit unternehmerischen und organisatorischen Kompetenzen verknüpft – so bereitet das Weiterbildungsstudium optimal auf wirtschaftsrechtliche Herausforderungen und Aufgabenstellungen im Berufsalltag vor. \nNutzen Sie unsere Info-Veranstaltungen\, um sich detailliert über Inhalte und Ablauf zu informieren. Wir freuen uns auf Ihre Anmeldung unter unserer Website Unternehmensjurist_in! \nTermine (online): \n\n15. April 2026\, 18:00\n28. Mai 2026\, 18:00\n03. September 2026\, 18:00
URL:https://vuj.at/event/info-veranstaltung-unternehmensjurist_in-legal-management-ll-m-an-der-donau-uni-krems/
END:VEVENT
BEGIN:VEVENT
DTSTART;TZID=Europe/Vienna:20260610T150000
DTEND;TZID=Europe/Vienna:20260610T210000
DTSTAMP:20260420T061434
CREATED:20260417T084439Z
LAST-MODIFIED:20260417T084439Z
UID:4389-1781103600-1781125200@vuj.at
SUMMARY:Legal Day Styria
DESCRIPTION:Details zum Programm und Anmeldung: Legal Day in Styria Einladung 0626 \nEversheds Sutherland lädt ein zum Legal Day Styria. \nWann: 10. Juni 2026 von 15.00 bis 21.00 Uhr\nOrt:  Needle\, Kunsthaus Graz\, Lendkai 1\, 8020 Graz \nDie Herausforderungen für Unternehmensjurist:innen werden immer vielfältiger: Neue Technologien\, komplexe rechtliche Vorgaben und wachsende regulatorische Hürden stellen Unternehmen täglich auf die Probe. Freuen Sie sich auf fundierten fachlichen Input zu aktuellen Rechtsthemen und nutzen Sie die Gelegenheit zum Austausch in besonderer Atmosphäre mit Blick über Graz. \nBitte um Anmeldung bis spätestens 03.06.2026 per E-Mail bei legalday@eversheds-sutherland.at oder telefonisch unter + 43 1 51620 an.\nhttps://www.eversheds-sutherland.com/de/austria/events/legal-day-in-styria-10-06-2026
URL:https://vuj.at/event/legal-day-styria/
END:VEVENT
BEGIN:VEVENT
DTSTART;VALUE=DATE:20260616
DTEND;VALUE=DATE:20260617
DTSTAMP:20260420T061434
CREATED:20260227T112742Z
LAST-MODIFIED:20260320T110356Z
UID:4258-1781568000-1781654399@vuj.at
SUMMARY:3. Wiener M&A-Tag
DESCRIPTION:Der 3. Wiener M&A Day am 16.6.2026 im Haus der Industrie bringt die maßgeblichen Akteure aus der Welt des Private Equity für einen Tag zusammen. Das Forum für Entscheidungsträger im Transaktionsumfeld. \nWir sprechen unter anderem zum Status des Private Equity im Jahr 2026\, dem Aufstieg des Private Credit\, Lehren aus Buy & Build Programmen\, der Partnerschaft von PE und Familienunternehmen\, Infrastruktur\, AI und anderen thematischen Investments und alles rund um den Exit. Hören Sie von EQT\, EMZ Partners\, Goldman Sachs\, Invest AG\, i5invest\, KKR\, Kommunalkredit Austria AG\, LEA Partners\, Rothschild & Co und vielen mehr! \nDavor\, dazwischen und danach bleibt viel Zeit zum Fragen stellen\, netzwerken und sich wieder treffen. \nOrganisiert und getragen von Goldman Sachs\, Rothschild & Co\, BRANDL TALOS Rechtsanwält:innen​\, Freshfields\, Kinstellar​\, PHH Rechtsanwält:innen​\, Schoenherr Attorneys at Law​ und Wolf Theiss​. \nProgramm und Anmeldung finden Sie hier:  www.wienermuaday.com. \nBei Fragen wenden Sie sich gerne an office@wienermuaday.com. \n 
URL:https://vuj.at/event/3-wiener-ma-tag/
END:VEVENT
BEGIN:VEVENT
DTSTART;TZID=Europe/Vienna:20260626T083000
DTEND;TZID=Europe/Vienna:20260626T103000
DTSTAMP:20260420T061434
CREATED:20260326T130858Z
LAST-MODIFIED:20260326T130858Z
UID:4356-1782462600-1782469800@vuj.at
SUMMARY:#DealDeepDive Breakfast - The InHouse M&A Series
DESCRIPTION:Infos folgen.
URL:https://vuj.at/event/dealdeepdive-breakfast-the-inhouse-ma-series-2/
END:VEVENT
BEGIN:VEVENT
DTSTART;TZID=Europe/Vienna:20260903T180000
DTEND;TZID=Europe/Vienna:20260903T190000
DTSTAMP:20260420T061434
CREATED:20260320T110148Z
LAST-MODIFIED:20260320T110148Z
UID:4335-1788458400-1788462000@vuj.at
SUMMARY:Info-Veranstaltung: Unternehmensjurist_in/Legal Management LL.M. an der Donau Uni Krems
DESCRIPTION:Das Weiterbildungsstudium Unternehmensjurist_in / Legal Management LL.M. ist erfolgreich ins erste Jahr gestartet. Juristisches Fachwissen wird dabei gezielt mit unternehmerischen und organisatorischen Kompetenzen verknüpft – so bereitet das Weiterbildungsstudium optimal auf wirtschaftsrechtliche Herausforderungen und Aufgabenstellungen im Berufsalltag vor. \nNutzen Sie unsere Info-Veranstaltungen\, um sich detailliert über Inhalte und Ablauf zu informieren. Wir freuen uns auf Ihre Anmeldung unter unserer Website Unternehmensjurist_in! \nTermine (online): \n\n15. April 2026\, 18:00\n28. Mai 2026\, 18:00\n03. September 2026\, 18:00
URL:https://vuj.at/event/info-veranstaltung-unternehmensjurist_in-legal-management-ll-m-an-der-donau-uni-krems-2/
END:VEVENT
BEGIN:VEVENT
DTSTART;VALUE=DATE:20260921
DTEND;VALUE=DATE:20260923
DTSTAMP:20260420T061434
CREATED:20260310T163050Z
LAST-MODIFIED:20260310T163050Z
UID:4287-1789948800-1790121599@vuj.at
SUMMARY:Legal Revolution 2026
DESCRIPTION:Die Legal Revolution 2026 bringt Europas führende Kanzleien\, Inhouse-Entscheider:innen\, Legal-Tech-Pioniere\, Investor:innen und Innovationsführer:innen in Berlin zusammen – für zwei Tage voller Impulse\, Innovation und strategischer Weichenstellungen. \nWeitere Infos: https://legal-revolution.com/de/
URL:https://vuj.at/event/legal-revolution-2026/
END:VEVENT
BEGIN:VEVENT
DTSTART;TZID=Europe/Vienna:20261120T083000
DTEND;TZID=Europe/Vienna:20261120T103000
DTSTAMP:20260420T061434
CREATED:20260326T130953Z
LAST-MODIFIED:20260326T130953Z
UID:4358-1795163400-1795170600@vuj.at
SUMMARY:#DealDeepDive Breakfast - The InHouse M&A Series
DESCRIPTION:Infos folgen.
URL:https://vuj.at/event/dealdeepdive-breakfast-the-inhouse-ma-series-3/
END:VEVENT
END:VCALENDAR