BEGIN:VCALENDAR
VERSION:2.0
PRODID:-//VUJ - ECPv6.2.2//NONSGML v1.0//EN
CALSCALE:GREGORIAN
METHOD:PUBLISH
X-WR-CALNAME:VUJ
X-ORIGINAL-URL:https://vuj.at
X-WR-CALDESC:Veranstaltungen für VUJ
REFRESH-INTERVAL;VALUE=DURATION:PT1H
X-Robots-Tag:noindex
X-PUBLISHED-TTL:PT1H
BEGIN:VTIMEZONE
TZID:Europe/Vienna
BEGIN:DAYLIGHT
TZOFFSETFROM:+0100
TZOFFSETTO:+0200
TZNAME:CEST
DTSTART:20250330T010000
END:DAYLIGHT
BEGIN:STANDARD
TZOFFSETFROM:+0200
TZOFFSETTO:+0100
TZNAME:CET
DTSTART:20251026T010000
END:STANDARD
END:VTIMEZONE
BEGIN:VEVENT
DTSTART;TZID=Europe/Vienna:20250603T093000
DTEND;TZID=Europe/Vienna:20250603T103000
DTSTAMP:20260423T213226
CREATED:20250506T200935Z
LAST-MODIFIED:20250506T200935Z
UID:3878-1748943000-1748946600@vuj.at
SUMMARY:Webinar Fachkreis Datenschutzrecht: DSGVO und Cybersicherheitsregulierung
DESCRIPTION:Wir laden Sie herzlich zum nächsten Webinar des Fachkreises Datenschutzrecht ein – mit Manuel Georg Bauer und Lukas Feiler\, sowie unserer Gastvortragenden Sofia Pachera Gasparini. \nWann? Dienstag\, 03. Juni 2025 | 09:30 – 10:30 Uhr | Online \nThemen: \n\nWelche datenschutzrechtlichen Anforderungen bestehen beim unternehmensinternen Einsatz von KI-Tools?\nWie lässt sich KI im Sinne von Privacy by Design & Default berücksichtigen?\nWelche Rollen nehmen Anbieter und Nutzer von KI-Systemen datenschutzrechtlich ein?\nKönnen überwiegend berechtigte Interessen als Rechtsgrundlage für den Einsatz von GenAI-Systemen herangezogen werden?\n\nSprache: Deutsch & Englisch \nBitte melden Sie sich bis 30. Mai 2025 per E-Mail an: office@vuj.at.\nDen Teilnahmelink senden wir Ihnen rechtzeitig zu. \nWir freuen uns auf Ihre Teilnahme!
URL:https://vuj.at/event/webinar-fachkreis-datenschutzrecht-dsgvo-und-cybersicherheitsregulierung/
END:VEVENT
BEGIN:VEVENT
DTSTART;VALUE=DATE:20250604
DTEND;VALUE=DATE:20250605
DTSTAMP:20260423T213226
CREATED:20250206T164049Z
LAST-MODIFIED:20250206T164049Z
UID:3777-1748995200-1749081599@vuj.at
SUMMARY:Lehrgang Corporate Law/M&A
DESCRIPTION:DAS Rüstzeug für erfolgreiche Spezialist:innen in Gesellschaftsrecht und M&A! \nhttps://shop.manz.at/shop/events/622651?utm_campaign=event_rak&utm_source=rechtsakademie&utm_medium=email&utm_content=textlink \n\n\n\nProgramm\n\nBlock 1 (6. und 7. Mai 2025): \nAnatomie des Gesellschaftsrechts – Kriterien der Rechtsformwahl  \n• Zentrale Einsatzgebiete der einzelnen Gesellschaftsformen \n• Konflikt- und Kooperationslinien im Gesellschaftsrecht \nAktuelle Trends im Gesellschaftsrecht  \n• Corporate Governance \n• ESG Transformation \nGestaltungselemente im Gesellschaftsrecht  \n• Wichtige gesellschaftsvertragliche Inhalte \n• Abhängigkeit der Gestaltung von den realen Verhältnissen \n• Bedeutung der Auslegung von Gesellschaftsverträgen \nSystem und Grundprinzipien der Organhaftung \n• Aufgaben und Pflichten der Geschäftsleitung \n• typische Haftungsrisiken und deren Vermeidung \nSpezialfragen der Organhaftung  \n• Unternehmerische Entscheidung und „Business Judgment Rule“ \n• Beispiele und aktuelle Judikatur zur Organhaftung \nAufgaben des Aufsichtsrats iZm Organisation & M&A  \n• Stellung und Aufgabe des Aufsichtsrats in GmbH und AG \n• Anforderungsprofil\, Sorgfaltsmaßstab und Kollegialorgan \n• Selbstorganisation und sitzungsfreie Zeit \n• Laufende Kontrolle\, Berichtswesen und Befugnisse des Aufsichtsrats \n• Der Aufsichtsrat in Holdinggesellschaften und im M&A Prozess \nBlock 2 (20. und 21. Mai 2025): \nZentrale gesellschaftsrechtliche Themen im Konzern  \n• Begriff\, Arten und Lebensphasen des Konzerns \n• Minderheitenschutz \n• Kapitalerhaltung und Verbot der Einlagenrückgewähr \nUmgründungen im Konzern  \n• Arten von Umgründungen \n• Umgründungen zur Vorbereitung oder im Nachgang von Unternehmens(verkäufen \n• Risiken von Umgründungen im Zusammenhang mit Unternehmens(ver)käufen \n• (Zeitlicher) Ablauf von Umgründungen \n• Haftungen im Zusammenhang mit Umgründungen \nKapitalmaßnahmen in der GmbH  \n• Kapitalerhöhung\, Kapitalherabsetzung\, Kapitalschnitt \n• Sacheinlagen\, Emissionen\, IPO\, Crowdfunding \n• Kapitalmaßnahmen und Umgründungen \n• Exkurs zur D&O Versicherung \nKritische Klauseln in Gesellschafts- und Syndikatsverträgen  \n• Sonderrechte von Gesellschaftern \n• Regelungen über die Gewinnverwendung \n• Aufgriffsrechte der Mitgesellschafter/Bewertungsfragen \n• Zusammenspiel von Gesellschaftsvertrag und Syndikatsvertrag \n• Auflösung von Pattstellungen \nBlock 3 (4. Juni 2025): \nTransaktionsgestaltung und strategische Fragen des Unternehmenserwerbs  \n• Asset Deal vs Share Deal \n• Due Diligence\, Joint Venture und Risiko der Einlagenrückgewähr \n• Anmeldepflichten (Fusionskontrolle) \n• Spezialfragen: Killer-Akquisitionen\, Shut-Down-Fusionen\, FDI\, Kontrolle \nM&A Vertragsgestaltung  \n• Aufbau von Unternehmenskaufverträgen \n• Ablauf vom Anbeginn bis zum Signing und Closing \n• Kaufpreisanpassungs-Systeme \n• Wichtige Klauseln: MAC\, Einschränkungen \n• Gesetzliche Haftungen sowie Representations & Warranties
URL:https://vuj.at/event/lehrgang-corporate-law-ma-6/
END:VEVENT
BEGIN:VEVENT
DTSTART;TZID=Europe/Vienna:20250605T173000
DTEND;TZID=Europe/Vienna:20250605T193000
DTSTAMP:20260423T213226
CREATED:20250506T200227Z
LAST-MODIFIED:20250506T200227Z
UID:3876-1749144600-1749151800@vuj.at
SUMMARY:Wenn Krisen ansteckend sind\, Follow up Event in Wien
DESCRIPTION:Wenn Geschäftspartner in wirtschaftliche Turbulenzen geraten\, zählt jede Minute – und die Rechtsabteilung rückt in den Mittelpunkt. Wie können sich Unternehmensjurist:innen geziehlt auf solche Krisensituationen vorbereiten? \nAntworten liefert das Follow up-Event von LeitnerLaw Rechtsanwälte und LeitnerLeitner Austria – diesmal in Wien: \n– Absicherung vor Zahlungsausfällen\n– Vorausschauende Vertragsgestaltung\n– Früherkennung von Kundenkrisen anhand von Finanzinformationen\n– Finanzplanung zur Risikominimierung\n– Personelle Strategien und Maßnahmen im eigenen Unternehmen \nWann? Donnerstag\, 05. Juni 2025 | 17:30 – 19:30 Uhr \nWo? LeitnerLaw\, Schwarzenbergplatz 14\, 1040 Wien \nGleich anmelden: https://www.leitnerlaw.eu/news/wenn-krisen-ansteckend-sind-wien/
URL:https://vuj.at/event/wenn-krisen-ansteckend-sind-follow-up-event-in-wien/
END:VEVENT
BEGIN:VEVENT
DTSTART;VALUE=DATE:20250611
DTEND;VALUE=DATE:20250612
DTSTAMP:20260423T213226
CREATED:20250316T183749Z
LAST-MODIFIED:20250316T183749Z
UID:3816-1749600000-1749686399@vuj.at
SUMMARY:Tax Tech Konferenz 2025
DESCRIPTION:Klicken Sie hier für mehr Infos zur Tax Tech 2025.
URL:https://vuj.at/event/tax-tech-konferenz-2025/
END:VEVENT
BEGIN:VEVENT
DTSTART;TZID=Europe/Vienna:20250611T163000
DTEND;TZID=Europe/Vienna:20250611T190000
DTSTAMP:20260423T213226
CREATED:20250418T100506Z
LAST-MODIFIED:20250418T100506Z
UID:3852-1749659400-1749668400@vuj.at
SUMMARY:Fachkreis Vorarlberg bei der ALPLA Group
DESCRIPTION:Das nächste Treffen des Regionalkreises Vorarlberg findet am Mittwoch\, den 11. Juni 2025 statt! \nDieses Mal dürfen wir zu Gast bei der ALPLA Group sein – ein herzliches Dankeschön geht bereits jetzt an Christian Sparl und sein Team für die Einladung und die Organisation vor Ort! \nDie Veranstaltung widmet sich topaktuellen Themen rund um Contract Management\, Künstliche Intelligenz und Legal Tech. \nNeben spannenden inhaltlichen Impulsen steht wie immer auch der persönliche Austausch im Fokus — wir laden daher alle Teilnehmer herzlich ein\, einen kurzen Beitrag aus der eigenen Praxis zum Umgang mit Vertragsmanagement & KI beizusteuern! \n📅 Datum: Mittwoch\, 11. Juni 2025 ab 16:30 Uhr\n📍 Ort: ALPLA – Werksführung in Fußach\, anschließend Programm im HQ in Hard \n✉️ Anmeldung bitte bis spätestens 02. Juni 2025 direkt an Dominik Schelling: Dominik.Schelling@hirschmann-automotive.com
URL:https://vuj.at/event/fachkreis-vorarlberg-bei-der-alpla-group/
END:VEVENT
BEGIN:VEVENT
DTSTART;TZID=Europe/Vienna:20250616T160000
DTEND;TZID=Europe/Vienna:20250616T180000
DTSTAMP:20260423T213226
CREATED:20250414T212029Z
LAST-MODIFIED:20250418T113025Z
UID:3850-1750089600-1750096800@vuj.at
SUMMARY:Kick-off Fachkreis Steiermark in Graz
DESCRIPTION:Wir freuen uns sehr\, Sie zum ersten Treffen des neu gegründeten Fachkreises Steiermark unter der Leitung von Elisabeth Neuhold-Haas einzuladen. \nWann & Wo:\nMontag\, 16. Juni 2025\, 16:00–18:00 Uhr\nSteiermärkische Bank und Sparkassen AG\, Sparkassenplatz 4\, 8010 Graz \nEingeladen sind alle Unternehmensjurist:innen\, die in der Steiermark leben oder arbeiten – unabhängig von einer VUJ-Mitgliedschaft. Wir freuen uns auf viele bekannte und neue Gesichter. Bringen Sie gerne auch Kolleg:innen aus Ihrer Rechtsabteilung mit. \nDas erwartet Sie:\nFachinput & Workshop mit Sophie Martinetz: „AI für Unternehmensjurist:innen“ \nKünstliche Intelligenz verändert den juristischen Berufsalltag – von Vertragsanalyse über Recherche bis zur Litigation-Strategie. Doch was steckt wirklich dahinter\, und wie können diese Technologien sinnvoll genutzt werden? \nInhalte des Workshops: \n• Einführung: Was ist AI – und wie funktionieren Tools wie ChatGPT und Bard?\n• Prompts\, die wirken: Worauf Unternehmensjurist:innen achten sollten\n• Praxisnahe Use Cases für den Einsatz von AI in Rechtsabteilungen\n• Live-Demo: Tools im Praxistest und Anwendungsmöglichkeiten\n• Interaktive Übungen und Diskussionen: „Was bedeutet das für uns?“ \nZiel des Workshops ist es\, Wissen aufzubauen\, Tools auszuprobieren\, mögliche Berührungsängste abzubauen und den Spaß an neuen Technologien zu wecken. Bitte bringen Sie Ihren Laptop mit.\n________________________________________\nNetworking & Austausch\nIm Anschluss bleibt ausreichend Zeit für persönliches Kennenlernen\, fachlichen Austausch und den gemeinsamen Aufbau unseres steirischen Netzwerks.\nWir freuen uns auf einen inspirierenden Auftakt und Ihre Teilnahme. \nBitte melden Sie sich bis zum 10. Juni 2025 unter office@vuj.at an. \n 
URL:https://vuj.at/event/kick-off-fachkreis-steiermark-in-graz/
END:VEVENT
BEGIN:VEVENT
DTSTART;VALUE=DATE:20250623
DTEND;VALUE=DATE:20250624
DTSTAMP:20260423T213226
CREATED:20250616T104133Z
LAST-MODIFIED:20250616T104155Z
UID:3913-1750636800-1750723199@vuj.at
SUMMARY:MANZ ESG Day
DESCRIPTION:https://shop.manz.at/shop/events/626638 \nErmäßigung für VUJ-Mitglieder
URL:https://vuj.at/event/manz-esg-day/
END:VEVENT
BEGIN:VEVENT
DTSTART;VALUE=DATE:20250624
DTEND;VALUE=DATE:20250625
DTSTAMP:20260423T213226
CREATED:20250616T104248Z
LAST-MODIFIED:20250616T104248Z
UID:3916-1750723200-1750809599@vuj.at
SUMMARY:Intensivtagung Arbeitsrecht - Aktuelles & Neues
DESCRIPTION:https://shop.manz.at/shop/events/627429 \nErmäßgigung für VUJ-Mitglieder!
URL:https://vuj.at/event/intensivtagung-arbeitsrecht-aktuelles-neues/
END:VEVENT
END:VCALENDAR