BEGIN:VCALENDAR
VERSION:2.0
PRODID:-//VUJ - ECPv6.2.2//NONSGML v1.0//EN
CALSCALE:GREGORIAN
METHOD:PUBLISH
X-WR-CALNAME:VUJ
X-ORIGINAL-URL:https://vuj.at
X-WR-CALDESC:Veranstaltungen für VUJ
REFRESH-INTERVAL;VALUE=DURATION:PT1H
X-Robots-Tag:noindex
X-PUBLISHED-TTL:PT1H
BEGIN:VTIMEZONE
TZID:Europe/Vienna
BEGIN:DAYLIGHT
TZOFFSETFROM:+0100
TZOFFSETTO:+0200
TZNAME:CEST
DTSTART:20250330T010000
END:DAYLIGHT
BEGIN:STANDARD
TZOFFSETFROM:+0200
TZOFFSETTO:+0100
TZNAME:CET
DTSTART:20251026T010000
END:STANDARD
END:VTIMEZONE
BEGIN:VEVENT
DTSTART;TZID=Europe/Vienna:20251002T180000
DTEND;TZID=Europe/Vienna:20251002T200000
DTSTAMP:20260423T151511
CREATED:20250905T084819Z
LAST-MODIFIED:20250905T084819Z
UID:4045-1759428000-1759435200@vuj.at
SUMMARY:Wege zur Verfahrensbeendigung für beschuldigte Unternehmen – Gegenwart und Zukunft
DESCRIPTION:Strafverfahren gegen Unternehmen müssen nicht immer mit Freispruch oder Verurteilung enden. Von der Ausübung des Verfolgungsermessens der Staatsanwaltschaft über die Diversion bis hin zur Kronzeugenregelung bestehen bereits jetzt Optionen\, mittels der Unternehmen auf eine vorzeitige Verfahrensbeendigung hinwirken können – wenn sie richtig genutzt werden. \nWann & Wo: \nDonnerstag\, 2. Oktober 2025 | 18:00 Uhr \nSchönherr Rechtsanwälte | Schottenring 19\, 1010 Wien \nZur Anmeldung: https://schoenherr.colada365.app/events-registration/#/events/60f5be29-f4bf-4182-8789-3cb64c7e60bb?lang=de
URL:https://vuj.at/event/wege-zur-verfahrensbeendigung-fuer-beschuldigte-unternehmen-gegenwart-und-zukunft/
END:VEVENT
BEGIN:VEVENT
DTSTART;TZID=Europe/Vienna:20251006T083000
DTEND;TZID=Europe/Vienna:20251006T170000
DTSTAMP:20260423T151511
CREATED:20250616T071939Z
LAST-MODIFIED:20250616T071939Z
UID:3901-1759739400-1759770000@vuj.at
SUMMARY:7. Unternehmensjurist:innenkongress im Parkhotel Schönbrunn
DESCRIPTION:Zum Sonderpreis für VUJ-Mitglieder: \nhttps://shop.manz.at/shop/events/630884
URL:https://vuj.at/event/7-unternehmensjuristinnenkongress-im-parkhotel-schoenbrunn/
END:VEVENT
BEGIN:VEVENT
DTSTART;TZID=Europe/Vienna:20251006T110000
DTEND;TZID=Europe/Vienna:20251006T113000
DTSTAMP:20260423T151511
CREATED:20250825T090855Z
LAST-MODIFIED:20250825T090855Z
UID:4029-1759748400-1759750200@vuj.at
SUMMARY:VUJ-Generalversammlung
DESCRIPTION:Unsere diesjährige ordentliche Mitgliederversammlung findet am 06. Oktober 2025 um 11.00 Uhr im Austria Trend Parkhotel Schönbrunn\, Hietzinger Hauptstraße 10-14\, 1130 Wien statt. Eine Einladung erhalten Sie dazu separat.
URL:https://vuj.at/event/vuj-generalversammlung/
END:VEVENT
BEGIN:VEVENT
DTSTART;TZID=Europe/Vienna:20251006T170000
DTEND;TZID=Europe/Vienna:20251006T223000
DTSTAMP:20260423T151511
CREATED:20250616T072059Z
LAST-MODIFIED:20250616T072059Z
UID:3903-1759770000-1759789800@vuj.at
SUMMARY:Mitglieder Get-together in der Waldemar Tagesbar
DESCRIPTION:„Durchs Reden kommen die Leut’ z’amm“ – ganz in diesem Sinne laden wir Sie herzlich zum Mitglieder Get-together im Anschluss an den Kongress ein: \nWaldemar Tagesbar\, Altgasse 6\, 1130 Wien\nMontag\, 6. Oktober 2025 | 17:00 – 22:30 Uhr\nAnmeldung bitte an: office@vuj.at
URL:https://vuj.at/event/mitglieder-get-together-in-der-waldemar-tagesbar/
END:VEVENT
BEGIN:VEVENT
DTSTART;VALUE=DATE:20251007
DTEND;VALUE=DATE:20251008
DTSTAMP:20260423T151511
CREATED:20250616T104612Z
LAST-MODIFIED:20250616T104612Z
UID:3922-1759795200-1759881599@vuj.at
SUMMARY:Jahrestagung Nachhaltigkeitsberichterstattung 2025
DESCRIPTION:https://shop.manz.at/shop/events/631171 \nErmäßigung für VUJ-Mitglieder!
URL:https://vuj.at/event/jahrestagung-nachhaltigkeitsberichterstattung-2025/
END:VEVENT
BEGIN:VEVENT
DTSTART;TZID=Europe/Vienna:20251013T080000
DTEND;TZID=Europe/Vienna:20251013T103000
DTSTAMP:20260423T151511
CREATED:20240909T222057Z
LAST-MODIFIED:20250629T160403Z
UID:3552-1760342400-1760351400@vuj.at
SUMMARY:Fachkreis Arbeitsrecht
DESCRIPTION:Klicken Sie hier.
URL:https://vuj.at/event/fachkreis-arbeitsrecht-3/
END:VEVENT
BEGIN:VEVENT
DTSTART;TZID=Europe/Vienna:20251013T170000
DTEND;TZID=Europe/Vienna:20251013T190000
DTSTAMP:20260423T151511
CREATED:20250701T181503Z
LAST-MODIFIED:20250921T140140Z
UID:3969-1760374800-1760382000@vuj.at
SUMMARY:Veranstaltung in Graz zur EU-Lohntransparenzrichtlinie
DESCRIPTION:  \nNach unserem erfolgreichen Kick-off möchten wir Sie herzlich zur nächsten Veranstaltung in der Steiermark einladen. Bereiten Sie sich und Ihr Unternehmen rechtzeitig auf die kommenden Anforderungen der EU-Entgelttransparenz-Richtlinie vor: Bis Juni 2026 muss Österreich diese in nationales Recht umsetzen. Ein zentrales Element ist die neue Berichtspflicht zum geschlechtsspezifischen Lohngefälle für Unternehmen mit über 100 Beschäftigten. \nErfahren Sie kompakt\, \n\nwelche Auswirkungen die Richtlinie auf Unternehmen hat\,\nwelche Schritte notwendig sind\, um rechtzeitig compliant zu sein\,\nund wie Sie sich schon jetzt optimal vorbereiten können.\n\n\n\n\nWann? Montag\, 13. Oktober 2025 | 17:00 – 19:00 Uhr\nWo? LeitnerLaw Rechtsanwälte\, MP09\, Liebenauer Tangente 4–6\, 8041 Graz \nVortragende: Irmgard Pracher und Sandra Grasser \nBitte melden Sie sich bis zum 3. Oktober 2025 hier an: https://mailworx.marketingsuite.info/Form?frm=8f529ae5-2ef7-42b8-8d4b-a611112e1116 \nDie Teilnahme ist kostenlos.
URL:https://vuj.at/event/graz-eu-lohntransparenzrichtlinie/
END:VEVENT
BEGIN:VEVENT
DTSTART;VALUE=DATE:20251014
DTEND;VALUE=DATE:20251016
DTSTAMP:20260423T151511
CREATED:20250616T104850Z
LAST-MODIFIED:20250616T104850Z
UID:3924-1760400000-1760572799@vuj.at
SUMMARY:Lehrgang Certified Digital Legal Expert
DESCRIPTION:https://shop.manz.at/shop/events/627675 \nZum Sonderpreis für VUJ-Mitglieder!
URL:https://vuj.at/event/lehrgang-certified-digital-legal-expert-5/
END:VEVENT
BEGIN:VEVENT
DTSTART;TZID=Europe/Vienna:20251023T163000
DTEND;TZID=Europe/Vienna:20251023T190000
DTSTAMP:20260423T151511
CREATED:20250801T102646Z
LAST-MODIFIED:20250916T195433Z
UID:4019-1761237000-1761246000@vuj.at
SUMMARY:Veranstaltung zu Schadenersatz im Kartellrecht
DESCRIPTION:Gemeinsam mit E+H Rechtsanwälte laden wir Sie herzlich am Donnerstag\, 23. Oktober 2025 zur Paneldiskussion des VUJ Fachkreises Kartellrecht ins Parlament ein. \nThema: Brennpunkt Kartellschadenersatz und Verbandsklagen \n  \nPrivate Enforcement gewinnt aufgrund der regen Tätigkeit der Wettbewerbsbehörden immer mehr an Bedeutung. Unternehmen\, die potentiell durch ein Kartell geschädigt wurden\, können Schadenersatz vor den Zivilgerichten geltend machen. Aber wie hoch ist überhaupt ein solcher Schaden und wie kann er berechnet werden? Und welche Rolle können hierbei Verbände zur kollektiven Rechtsdurchsetzung spielen? Seit Sommer 2024 ist die sogenannte Verbandsklagen-Richtlinie-Umsetzungs-Novelle in Kraft. Was erwartet Unternehmen unter diesem neuen Verbandsklageregime und ist dieses bereits in der Praxis angekommen? In unserer Veranstaltung erhalten Sie einen Überblick über den Stand der privaten Kartellrechtsdurchsetzung in Österreich und lernen die Leitplanken und wesentlichen Stellschrauben kennen. \n  \nAm Podium: Svenja Lemke\, Maria Posani und Johannes Paha \nModeration: Erika Stark-Rittenauer und Sabine Prossinger \n  \nWann? Donnerstag\, 23. Oktober 2025 | ab 16:30 Uhr \nWo? KELSEN IM PARLAMENT\, Dr. Karl-Renner-Ring 3\, 1010 Wien \n  \nAblauf: \n\n16:30 Uhr – Einlass (Ausweis mitnehmen!)\n17:00 – 19:00 Uhr – Podiumsdiskussion\nDanach – Snacks & Drinks\n\nBitte um Anmeldung bis zum 10. Oktober 2025 unter office@vuj.at. \n 
URL:https://vuj.at/event/veranstaltung-zu-schadenersatz-im-kartellrecht/
LOCATION:Wien
END:VEVENT
END:VCALENDAR